BEGIN:VCALENDAR
VERSION:2.0
PRODID:-//Latgales plānošanas reģions - ECPv5.1.2.1//NONSGML v1.0//EN
CALSCALE:GREGORIAN
METHOD:PUBLISH
X-WR-CALNAME:Latgales plānošanas reģions
X-ORIGINAL-URL:https://lpr.gov.lv
X-WR-CALDESC:Events for Latgales plānošanas reģions
BEGIN:VTIMEZONE
TZID:Europe/Riga
BEGIN:DAYLIGHT
TZOFFSETFROM:+0200
TZOFFSETTO:+0300
TZNAME:EEST
DTSTART:20260329T010000
END:DAYLIGHT
BEGIN:STANDARD
TZOFFSETFROM:+0300
TZOFFSETTO:+0200
TZNAME:EET
DTSTART:20261025T010000
END:STANDARD
END:VTIMEZONE
BEGIN:VEVENT
DTSTART;TZID=Europe/Riga:20260309T120000
DTEND;TZID=Europe/Riga:20260309T160000
DTSTAMP:20260425T033031
CREATED:20260303T095901Z
LAST-MODIFIED:20260303T095901Z
UID:131142-1773057600-1773072000@lpr.gov.lv
SUMMARY:LIAA aicina uz INFO DIENU Krāslavā
DESCRIPTION: \n2026. gada 9.martā no plkst. 12.00 līdz plkst. 16.00 Latvijas Investīciju un attīstības aģentūras (LIAA) pārstāvniecība Daugavpilī rīko INFO DIENU uzņēmējiem un biznesa ideju autoriem no Krāslavas novada. \nINFO dienas laikā dalībniekiem būs iespēja uzzināt par LIAA atbalsta iespējām un biznesa inkubācijas programmu\, kurā jaunu dalībnieku uzņemšana uzsāksies jau 9.martā\, iepazīties ar aktuālo informāciju par LEADER projektu konkursu un Krāslavas pašvaldības līdzdalības budžeta projektu konkursu\, kuros pieteikumu iesniegšanas termiņš attiecīgi ir līdz 11.aprīlim un 7.aprīlim\, kā arī Latgales reģiona uzņēmējdarbības atbalsta pasākumiem un Altum aktuālām programmām uzņēmējiem. \nPasākuma mērķis ir sniegt praktisku un koncentrētu informāciju par pieejamajiem atbalsta instrumentiem uzņēmējdarbības uzsākšanai un attīstībai reģionā. \nŠī diena būs īpaši noderīga jaunajiem uzņēmējiem\, pašnodarbinātajiem\, ideju autoriem un ikvienam\, kurš apsver iespēju uzsākt savu biznesu vai attīstīt jau esošu uzņēmējdarbību. Dalībniekiem būs iespēja uzdot jautājumus par finansējuma piesaistes iespējām\, projektu sagatavošanas prasībām\, kā arī par biznesa inkubācijas programmas sniegtajām priekšrocībām. \nPasākuma otrajā daļā paredzētas individuālās konsultācijas ar iesaistīto organizāciju pārstāvjiem\, kuru laikā interesenti varēs saņemt personalizētus ieteikumus savas biznesa idejas pilnveidošanai\, piemērotākā atbalsta instrumenta izvēlei un turpmākajiem soļiem uzņēmējdarbības uzsākšanā vai attīstībā. \nKonsultāciju vietu skaits ir ierobežots\, tādēļ aicinām interesentus savlaicīgi pieteikt savu dalību sev ērtā laikā šeit: forms.gle/csVkJ2AtcGszBQ7g8 \nPasākums norisināsies klātienē Krāslavas novada pašvaldībā\, Skolas ielā 7\, 2.stāva zālē\, Krāslavā un dalība tajā ir bez maksas. \nPasākuma programma un reģistrācija pieejama LIAA tīmekļvietnē. \nKontaktinformācija: \nIveta Karabeška\nLIAA pārstāvniecība Daugavpilī\nLatvijas Investīciju un attīstības aģentūra (LIAA)\nTālrunis: + 371 28384264\nE-pasts: daugavpils@liaa.gov.lv \n
URL:https://lpr.gov.lv/event/liaa-aicina-uz-info-dienu-kraslava/
ATTACH;FMTTYPE=image/png:https://lpr.gov.lv/wp-content/uploads/2026/liaa-aicina-uz-info-dienu-kraslava/visadi-mājas-lapai.png
END:VEVENT
END:VCALENDAR