BEGIN:VCALENDAR
VERSION:2.0
PRODID:-//Latgales plānošanas reģions - ECPv5.1.2.1//NONSGML v1.0//EN
CALSCALE:GREGORIAN
METHOD:PUBLISH
X-WR-CALNAME:Latgales plānošanas reģions
X-ORIGINAL-URL:https://lpr.gov.lv
X-WR-CALDESC:Events for Latgales plānošanas reģions
BEGIN:VTIMEZONE
TZID:Europe/Riga
BEGIN:DAYLIGHT
TZOFFSETFROM:+0200
TZOFFSETTO:+0300
TZNAME:EEST
DTSTART:20230326T010000
END:DAYLIGHT
BEGIN:STANDARD
TZOFFSETFROM:+0300
TZOFFSETTO:+0200
TZNAME:EET
DTSTART:20231029T010000
END:STANDARD
END:VTIMEZONE
BEGIN:VEVENT
DTSTART;TZID=Europe/Riga:20230418T123000
DTEND;TZID=Europe/Riga:20230419T110000
DTSTAMP:20260426T034708
CREATED:20230414T075735Z
LAST-MODIFIED:20230414T075735Z
UID:112512-1681821000-1681902000@lpr.gov.lv
SUMMARY:Semināri "Latgales SEZ – veiksmes atslēga uzņēmējdarbībai!"
DESCRIPTION: \nLatgales speciālā ekonomiskā zona (Latgales SEZ) sadarbībā ar Preiļu un Augšdaugavas novada pašvaldībām šī gada 18. un 19. aprīlī rīko informatīvus seminārus par Latgales SEZ priekšrocībām. Semināru laikā tiks sniegta informāciju par nodokļu atlaidēm\, kādas ir iespējams saņemt uzņēmumiem\, kas darbojās Latgales administratīvajā teritorijā\, izklāstīts kā un vai vajag saņemt Latgales SEZ uzņēmuma statusu\, kā arī tiks sniegtas atbildes uz uzņēmēju interesējošajiem jautājumiem. \n\n18. aprīlī plkst. 12.30 Preiļu Galvenajā bibliotēkā\, Kārsavas ielā 4\, Preiļos\n19. aprīlī plkst. 10.00 Augšdaugavas novada pašavaldības sēžu zālē\, Rīgas ielā 2\, Daugavpilī\n\nPapildu informācija:\nAnna Jaudzema\nLatgales speciālās ekonomiskās zonas pārvaldes izpildaparāta\nmārketinga projektu vadītāja\ntālr.: +371 26765820 \n
URL:https://lpr.gov.lv/event/seminari-latgales-sez-veiksmes-atslega-uznemejdarbibai/
ATTACH;FMTTYPE=image/png:https://lpr.gov.lv/wp-content/uploads/2023/latgales-sez-aicina-uz-informativiem-seminariem/LSEZ_seminari_aprilis-1.png
END:VEVENT
END:VCALENDAR