BEGIN:VCALENDAR
VERSION:2.0
PRODID:-//Latgales plānošanas reģions - ECPv5.1.2.1//NONSGML v1.0//EN
CALSCALE:GREGORIAN
METHOD:PUBLISH
X-WR-CALNAME:Latgales plānošanas reģions
X-ORIGINAL-URL:https://lpr.gov.lv
X-WR-CALDESC:Events for Latgales plānošanas reģions
BEGIN:VTIMEZONE
TZID:Europe/Riga
BEGIN:DAYLIGHT
TZOFFSETFROM:+0200
TZOFFSETTO:+0300
TZNAME:EEST
DTSTART:20230326T010000
END:DAYLIGHT
BEGIN:STANDARD
TZOFFSETFROM:+0300
TZOFFSETTO:+0200
TZNAME:EET
DTSTART:20231029T010000
END:STANDARD
END:VTIMEZONE
BEGIN:VEVENT
DTSTART;VALUE=DATE:20230216
DTEND;VALUE=DATE:20230325
DTSTAMP:20260426T020113
CREATED:20230309T122358Z
LAST-MODIFIED:20230309T122651Z
UID:111614-1676505600-1679702399@lpr.gov.lv
SUMMARY:Pieteikšanās biznesa ideju konkursam Latgalē “Nākotnes atslēga 2023”
DESCRIPTION: \nLatgales plānošanas reģions (LPR) aicina pieteikt dalību inovatīvu biznesa ideju konkursā „Nākotnes atslēga 2023” ar iespēju vismaz 5 labākajiem biznesa ideju autoriem saņemt galveno balvu: apmaksātu pieredzes apmaiņas braucienu uz Norvēģiju\, lai iepazītos ar šīs valsts labās prakses piemēriem veiksmīgas uzņēmējdarbības attīstībā. \nKonkursu organizē LPR Eiropas Ekonomikas zonas finanšu instrumenta 2014. – 2021. gada perioda programmas “Vietējā attīstība\, nabadzības mazināšana un kultūras sadarbība” projekta Nr. LV-LOCALDEV-0001 ”Uzņēmējdarbības atbalsta pasākumi Latgales plānošanas reģionā” (UAP Latgale) ietvaros. \n“Biznesa idejas bieži rodas kā lieliski izaicinājumu vai problēmsituāciju risinājumi\, tādēļ aicinām konkursā iesaistīties ikvienu interesentu\, kurš lolo kādu aizraujošu un inovatīvu ideju\, kuru vēlas attīstīt\, taču ir pietrūcis drosmes vai zināšanu\, kā to paveikt! Konkursa ietvaros piedāvājam ne tikai gūt pārliecību par savu ideju vai projektu\, prezentējot to kompetentiem ekspertiem\, bet arī pirms tam iegūt nepieciešamās uzņēmējdarbības prasmes\, piedaloties bezmaksas semināros par biznesa ideju ģenerēšanu\, veiksmīgu idejas attīstīšanu un tās prezentēšanu!” aicina Latgales plānošanas reģiona Administrācijas vadītāja Iveta Maļina – Tabūne. \nKonkursā aicināti piedalīties interesenti vecumā no 16 gadiem (vecums iesniegšanas brīdī). \nKonkurss norisināsies 2 kārtās. Pirmajā kārtā tiks vērtēti biznesa ideju pieteikumi un izvirzīti līdz piecpadsmit spēcīgākie biznesa ideju autori\, kuri konkursa otrajā kārtā savu biznesa ideju prezentēs Vērtēšanas komisijai klātienē (vai tiešsaistē). \nPieteikšanās biznesa ideju konkursā ir atvērta līdz 2023. gada 24. martam\, nosūtot biznesa idejas PIETEIKUMU uz e-pasta adresi uap.latgale@lpr.gov.lv. \nSavukārt 2023. gada 23. februārī plkst. 15.00 ZOOM tiešsaistes platformā tiek organizēts informatīvais seminārs par pieteikšanās kārtību un biznesa ideju konkursa norisi. Iepriekšēja pieteikšanās informatīvajam semināram notiek no konkursa izsludināšanas brīža līdz 2023.gada 22.februārim\, aizpildot reģistrēšanās anketu: ej.uz/NakotnesAtslega2023.  Semināra norises ZOOM tiešsaistes links tiks nosūtīts reģistrētajiem dalībniekiem. \nKonkursa mērķis – veicināt uzņēmējdarbību\, nodarbinātību\, jauniešu uzņēmējspējas un Latgales reģiona konkurētspējas sekmēšanu\, īstenojot inovatīvas idejas un reģionam specifiskas aktivitātes. \nPlašāka informācija lasāma konkursa NOLIKUMĀ. \nAicinām sekot līdzi informācijai konkursa organizatoru oficiālajā mājas lapā www.lpr.gov.lv un sociālā medija Facebook lapā www.facebook.com/UAPLatgale. \nPasākums tiek rīkots Eiropas Ekonomikas zonas finanšu instrumenta 2014.-2021.gada perioda programmas “Vietējā attīstība\, nabadzības mazināšana un kultūras sadarbība” atbalstītā projekta ”Uzņēmējdarbības atbalsta pasākumi Latgales plānošanas reģionā” ietvaros. \nStrādājam kopā konkurētspējīgai Eiropai! \n#EEANorwayGrantsLatvia \n \nPapildu informācija:\nuap.latgale@lpr.gov.lv\nTālr. +371  26467137 \n  \n
URL:https://lpr.gov.lv/event/pieteiksanas-biznesa-ideju-konkursam-latgale-nakotnes-atslega-2023/
ATTACH;FMTTYPE=image/jpeg:https://lpr.gov.lv/wp-content/uploads/2023/izsludinata-pieteiksanas-inovativu-biznesa-ideju-konkursam-latgale-nakotnes-atslega-2023/nakotnes-atslega-afisha.jpg
END:VEVENT
END:VCALENDAR