BEGIN:VCALENDAR
VERSION:2.0
PRODID:-//Latgales plānošanas reģions - ECPv5.1.2.1//NONSGML v1.0//EN
CALSCALE:GREGORIAN
METHOD:PUBLISH
X-WR-CALNAME:Latgales plānošanas reģions
X-ORIGINAL-URL:https://lpr.gov.lv
X-WR-CALDESC:Events for Latgales plānošanas reģions
BEGIN:VTIMEZONE
TZID:Europe/Riga
BEGIN:DAYLIGHT
TZOFFSETFROM:+0200
TZOFFSETTO:+0300
TZNAME:EEST
DTSTART:20230326T010000
END:DAYLIGHT
BEGIN:STANDARD
TZOFFSETFROM:+0300
TZOFFSETTO:+0200
TZNAME:EET
DTSTART:20231029T010000
END:STANDARD
END:VTIMEZONE
BEGIN:VEVENT
DTSTART;VALUE=DATE:20230927
DTEND;VALUE=DATE:20230929
DTSTAMP:20260421T085114
CREATED:20230915T122957Z
LAST-MODIFIED:20230915T122957Z
UID:116815-1695772800-1695945599@lpr.gov.lv
SUMMARY:Latvijas vēstniecību diplomātu ekonomikas jautājumos vizīte LPR
DESCRIPTION:2023. gada 27.-28. septembrī Latvijas Republikas Ārlietu ministrija sadarbībā ar Latgales plānošanas reģionu\, Latgales un Rēzeknes speciālo ekonomisko zonu\, Latgales uzņēmējdarbības centru organizē Latvijas vēstniecību diplomātu ekonomikas jautājumos vizīti Latgales plānošanas reģionā. Vizītē piedalīsies diplomāti no vairāk nekā 30 valstīm. \nLai uzņēmumiem būtu iespēja dibināt jaunus kontaktus\, ekonomiskās saites\, stiprināt esošo sadarbību un veicinātu investīciju piesaisti reģionam\, tiek rīkoti divi tīklošanās pasākumi ar Latvijas vēstniecību diplomātiem ekonomikas jautājumos: \n\nDaugavpilī – 27. septembrī plkst. 11.00 Kultūras centrā “Vārpa”\, Dobeles ielā 30\, notiks tīklošanās pasākums “Brokastis ar uzņēmējiem”;\nRēzeknē – 28. septembrīplkst. 14.00 Latgales vēstniecībā “GORS”\, Pils ielā 4\, notiks tīklošanās pasākums “Kafija ar uzņēmējiem”.\n\nDarba valoda: latviešu. \nAicinām uzņēmējus izvēlēties sev ērtāko pasākuma vietu – Daugavpilī vai Rēzeknē un aicināt arī citus uzņēmējus piedalīties. Lūdzam reģistrēties pasākumam līdz 22. septembra plkst. 12.00\, reģistrācijas veidlapa: ej.uz/AMdiplomati_LPR. \nPasākumu programma: \n \nVizīti rīko Latvijas Republikas Ārlietu ministrija sadarbībā ar Latgales plānošanas reģionu\, Latgales un Rēzeknes speciālo ekonomisko zonu\, Latgales uzņēmējdarbības centru. \n\nLatgales speciālā ekonomiskā zona\nSaules iela 15\, Daugavpils\nE-pasts: lsez@lpr.gov.lv\nTālr.: +371 26511047\nwww.lpr.gov.lv/lsez \n
URL:https://lpr.gov.lv/event/latvijas-vestniecibu-diplomatu-ekonomikas-jautajumos-vizite-lpr/
CATEGORIES:Konferences, semināri, tikšanās
ATTACH;FMTTYPE=image/png:https://lpr.gov.lv/wp-content/uploads/2023/arvalstu-diplomati-ekonomikas-jautajumos-apmekles-latgales-planosanas-regionu/Screenshot-46.png
END:VEVENT
END:VCALENDAR